BEGIN:VCALENDAR
VERSION:2.0
PRODID:-//Fostoria Learning Center - ECPv6.13.0//NONSGML v1.0//EN
CALSCALE:GREGORIAN
METHOD:PUBLISH
X-ORIGINAL-URL:https://fostorialearningcenter.org
X-WR-CALDESC:Events for Fostoria Learning Center
REFRESH-INTERVAL;VALUE=DURATION:PT1H
X-Robots-Tag:noindex
X-PUBLISHED-TTL:PT1H
BEGIN:VTIMEZONE
TZID:UTC
BEGIN:STANDARD
TZOFFSETFROM:+0000
TZOFFSETTO:+0000
TZNAME:UTC
DTSTART:20250101T000000
END:STANDARD
END:VTIMEZONE
BEGIN:VEVENT
DTSTART;TZID=UTC:20250422T080000
DTEND;TZID=UTC:20250422T160000
DTSTAMP:20260422T155211
CREATED:20250422T213158Z
LAST-MODIFIED:20250422T213158Z
UID:10000007-1745308800-1745337600@fostorialearningcenter.org
SUMMARY:CNA June 2025 Session
DESCRIPTION:6/10 8:00 am – 4:30 pm\n6/11 8:00 am – 4:30 pm\n6/12 8:00 am – 4:30 pm\n6/13 8:00 am – 4:30 pm\n6/16 8:00 am – 4:30 pm\n6/17 8:00 am – 4:30 pm\n6/18 8:00 am – 4:30 pm\n6/19 9:00 am – 12:00 pm Exam\n6/21 6:00 am – 2:30 pm Clinicals\n*Exam Not Included: $104 6/22 6:00 am – 2:30 pm Clinicals
URL:https://fostorialearningcenter.org/event/cna-june-2025-session/
LOCATION:Fostoria Learning Center
CATEGORIES:Medical
END:VEVENT
END:VCALENDAR