BEGIN:VCALENDAR
VERSION:2.0
PRODID:-//Fostoria Learning Center - ECPv6.13.0//NONSGML v1.0//EN
CALSCALE:GREGORIAN
METHOD:PUBLISH
X-WR-CALNAME:Fostoria Learning Center
X-ORIGINAL-URL:https://fostorialearningcenter.org
X-WR-CALDESC:Events for Fostoria Learning Center
REFRESH-INTERVAL;VALUE=DURATION:PT1H
X-Robots-Tag:noindex
X-PUBLISHED-TTL:PT1H
BEGIN:VTIMEZONE
TZID:UTC
BEGIN:STANDARD
TZOFFSETFROM:+0000
TZOFFSETTO:+0000
TZNAME:UTC
DTSTART:20250101T000000
END:STANDARD
END:VTIMEZONE
BEGIN:VEVENT
DTSTART;TZID=UTC:20250816T060000
DTEND;TZID=UTC:20250816T143000
DTSTAMP:20260421T101329
CREATED:20250710T165448Z
LAST-MODIFIED:20250710T165556Z
UID:10001557-1755324000-1755354600@fostorialearningcenter.org
SUMMARY:August Certified Nurses Aide Schedule
DESCRIPTION:8/5. 8:00am-4:30pm\n8/6. 8:00am-4:30pm\n8/7. 8:00am-4:30pm\n8/8. 8:00am-4:30pm\n8/11. 8:00am-4:30pm\n8/12. 8:00am-4:30pm\n8/13. 8:00am-4:30pm\n8/14. 9:00am-12:00 PM Exam Day\n8/15. 6:00am-2:30pm Clinicals\n8/16. 6:00am-2:30pm Clinicals \n  \nInquiries: (419) 559-2464\, kern@terra.edu
URL:https://fostorialearningcenter.org/event/august-certified-nurses-aide-schedule/2025-08-16/
CATEGORIES:Medical
END:VEVENT
BEGIN:VEVENT
DTSTART;TZID=UTC:20250814T080000
DTEND;TZID=UTC:20250814T163000
DTSTAMP:20260421T101329
CREATED:20250710T165448Z
LAST-MODIFIED:20250710T165556Z
UID:10001555-1755158400-1755189000@fostorialearningcenter.org
SUMMARY:August Certified Nurses Aide Schedule
DESCRIPTION:8/5. 8:00am-4:30pm\n8/6. 8:00am-4:30pm\n8/7. 8:00am-4:30pm\n8/8. 8:00am-4:30pm\n8/11. 8:00am-4:30pm\n8/12. 8:00am-4:30pm\n8/13. 8:00am-4:30pm\n8/14. 9:00am-12:00 PM Exam Day\n8/15. 6:00am-2:30pm Clinicals\n8/16. 6:00am-2:30pm Clinicals \n  \nInquiries: (419) 559-2464\, kern@terra.edu
URL:https://fostorialearningcenter.org/event/august-certified-nurses-aide-schedule/2025-08-14/
CATEGORIES:Medical
END:VEVENT
BEGIN:VEVENT
DTSTART;TZID=UTC:20250813T080000
DTEND;TZID=UTC:20250813T163000
DTSTAMP:20260421T101329
CREATED:20250710T165448Z
LAST-MODIFIED:20250710T165556Z
UID:10001554-1755072000-1755102600@fostorialearningcenter.org
SUMMARY:August Certified Nurses Aide Schedule
DESCRIPTION:8/5. 8:00am-4:30pm\n8/6. 8:00am-4:30pm\n8/7. 8:00am-4:30pm\n8/8. 8:00am-4:30pm\n8/11. 8:00am-4:30pm\n8/12. 8:00am-4:30pm\n8/13. 8:00am-4:30pm\n8/14. 9:00am-12:00 PM Exam Day\n8/15. 6:00am-2:30pm Clinicals\n8/16. 6:00am-2:30pm Clinicals \n  \nInquiries: (419) 559-2464\, kern@terra.edu
URL:https://fostorialearningcenter.org/event/august-certified-nurses-aide-schedule/2025-08-13/
CATEGORIES:Medical
END:VEVENT
BEGIN:VEVENT
DTSTART;TZID=UTC:20250812T080000
DTEND;TZID=UTC:20250812T163000
DTSTAMP:20260421T101329
CREATED:20250710T165448Z
LAST-MODIFIED:20250710T165556Z
UID:10001553-1754985600-1755016200@fostorialearningcenter.org
SUMMARY:August Certified Nurses Aide Schedule
DESCRIPTION:8/5. 8:00am-4:30pm\n8/6. 8:00am-4:30pm\n8/7. 8:00am-4:30pm\n8/8. 8:00am-4:30pm\n8/11. 8:00am-4:30pm\n8/12. 8:00am-4:30pm\n8/13. 8:00am-4:30pm\n8/14. 9:00am-12:00 PM Exam Day\n8/15. 6:00am-2:30pm Clinicals\n8/16. 6:00am-2:30pm Clinicals \n  \nInquiries: (419) 559-2464\, kern@terra.edu
URL:https://fostorialearningcenter.org/event/august-certified-nurses-aide-schedule/2025-08-12/
CATEGORIES:Medical
END:VEVENT
BEGIN:VEVENT
DTSTART;TZID=UTC:20250811T080000
DTEND;TZID=UTC:20250811T163000
DTSTAMP:20260421T101329
CREATED:20250710T165448Z
LAST-MODIFIED:20250710T165556Z
UID:10001552-1754899200-1754929800@fostorialearningcenter.org
SUMMARY:August Certified Nurses Aide Schedule
DESCRIPTION:8/5. 8:00am-4:30pm\n8/6. 8:00am-4:30pm\n8/7. 8:00am-4:30pm\n8/8. 8:00am-4:30pm\n8/11. 8:00am-4:30pm\n8/12. 8:00am-4:30pm\n8/13. 8:00am-4:30pm\n8/14. 9:00am-12:00 PM Exam Day\n8/15. 6:00am-2:30pm Clinicals\n8/16. 6:00am-2:30pm Clinicals \n  \nInquiries: (419) 559-2464\, kern@terra.edu
URL:https://fostorialearningcenter.org/event/august-certified-nurses-aide-schedule/2025-08-11/
CATEGORIES:Medical
END:VEVENT
BEGIN:VEVENT
DTSTART;TZID=UTC:20250808T080000
DTEND;TZID=UTC:20250808T163000
DTSTAMP:20260421T101329
CREATED:20250710T165448Z
LAST-MODIFIED:20250710T165556Z
UID:10001551-1754640000-1754670600@fostorialearningcenter.org
SUMMARY:August Certified Nurses Aide Schedule
DESCRIPTION:8/5. 8:00am-4:30pm\n8/6. 8:00am-4:30pm\n8/7. 8:00am-4:30pm\n8/8. 8:00am-4:30pm\n8/11. 8:00am-4:30pm\n8/12. 8:00am-4:30pm\n8/13. 8:00am-4:30pm\n8/14. 9:00am-12:00 PM Exam Day\n8/15. 6:00am-2:30pm Clinicals\n8/16. 6:00am-2:30pm Clinicals \n  \nInquiries: (419) 559-2464\, kern@terra.edu
URL:https://fostorialearningcenter.org/event/august-certified-nurses-aide-schedule/2025-08-08/
CATEGORIES:Medical
END:VEVENT
BEGIN:VEVENT
DTSTART;TZID=UTC:20250807T080000
DTEND;TZID=UTC:20250807T163000
DTSTAMP:20260421T101329
CREATED:20250710T165448Z
LAST-MODIFIED:20250710T165556Z
UID:10001550-1754553600-1754584200@fostorialearningcenter.org
SUMMARY:August Certified Nurses Aide Schedule
DESCRIPTION:8/5. 8:00am-4:30pm\n8/6. 8:00am-4:30pm\n8/7. 8:00am-4:30pm\n8/8. 8:00am-4:30pm\n8/11. 8:00am-4:30pm\n8/12. 8:00am-4:30pm\n8/13. 8:00am-4:30pm\n8/14. 9:00am-12:00 PM Exam Day\n8/15. 6:00am-2:30pm Clinicals\n8/16. 6:00am-2:30pm Clinicals \n  \nInquiries: (419) 559-2464\, kern@terra.edu
URL:https://fostorialearningcenter.org/event/august-certified-nurses-aide-schedule/2025-08-07/
CATEGORIES:Medical
END:VEVENT
BEGIN:VEVENT
DTSTART;TZID=UTC:20250806T080000
DTEND;TZID=UTC:20250806T163000
DTSTAMP:20260421T101329
CREATED:20250710T165448Z
LAST-MODIFIED:20250710T165556Z
UID:10001549-1754467200-1754497800@fostorialearningcenter.org
SUMMARY:August Certified Nurses Aide Schedule
DESCRIPTION:8/5. 8:00am-4:30pm\n8/6. 8:00am-4:30pm\n8/7. 8:00am-4:30pm\n8/8. 8:00am-4:30pm\n8/11. 8:00am-4:30pm\n8/12. 8:00am-4:30pm\n8/13. 8:00am-4:30pm\n8/14. 9:00am-12:00 PM Exam Day\n8/15. 6:00am-2:30pm Clinicals\n8/16. 6:00am-2:30pm Clinicals \n  \nInquiries: (419) 559-2464\, kern@terra.edu
URL:https://fostorialearningcenter.org/event/august-certified-nurses-aide-schedule/2025-08-06/
CATEGORIES:Medical
END:VEVENT
BEGIN:VEVENT
DTSTART;TZID=UTC:20250805T080000
DTEND;TZID=UTC:20250805T163000
DTSTAMP:20260421T101329
CREATED:20250710T165448Z
LAST-MODIFIED:20250710T165556Z
UID:10001548-1754380800-1754411400@fostorialearningcenter.org
SUMMARY:August Certified Nurses Aide Schedule
DESCRIPTION:8/5. 8:00am-4:30pm\n8/6. 8:00am-4:30pm\n8/7. 8:00am-4:30pm\n8/8. 8:00am-4:30pm\n8/11. 8:00am-4:30pm\n8/12. 8:00am-4:30pm\n8/13. 8:00am-4:30pm\n8/14. 9:00am-12:00 PM Exam Day\n8/15. 6:00am-2:30pm Clinicals\n8/16. 6:00am-2:30pm Clinicals \n  \nInquiries: (419) 559-2464\, kern@terra.edu
URL:https://fostorialearningcenter.org/event/august-certified-nurses-aide-schedule/2025-08-05/
CATEGORIES:Medical
END:VEVENT
BEGIN:VEVENT
DTSTART;TZID=UTC:20250720T080000
DTEND;TZID=UTC:20250720T163000
DTSTAMP:20260421T101329
CREATED:20250618T000529Z
LAST-MODIFIED:20250710T165011Z
UID:10000057-1752998400-1753029000@fostorialearningcenter.org
SUMMARY:July Certified Nurses Aide Schedule
DESCRIPTION:7/8. 8:00am-4:30pm\n7/9. 8:00am-4:30pm\n7/10. 8:00am-4:30pm\n7/11. 8:00am-4:30pm\n7/14. 8:00am-4:30pm\n7/15. 8:00am-4:30pm\n7/16. 8:00am-4:30pm\n7/17. 9:00am-12:00 PM Exam Day\n7/19. 6:00am-2:30pm Clinicals\n7/20. 6:00am-2:30pm Clinicals \n  \nInquiries: (419) 559-2464\, kern@terra.edu
URL:https://fostorialearningcenter.org/event/july-certified-nurses-aid-schedule/2025-07-20/
CATEGORIES:Medical
END:VEVENT
BEGIN:VEVENT
DTSTART;TZID=UTC:20250719T080000
DTEND;TZID=UTC:20250719T163000
DTSTAMP:20260421T101329
CREATED:20250618T000529Z
LAST-MODIFIED:20250710T165011Z
UID:10000056-1752912000-1752942600@fostorialearningcenter.org
SUMMARY:July Certified Nurses Aide Schedule
DESCRIPTION:7/8. 8:00am-4:30pm\n7/9. 8:00am-4:30pm\n7/10. 8:00am-4:30pm\n7/11. 8:00am-4:30pm\n7/14. 8:00am-4:30pm\n7/15. 8:00am-4:30pm\n7/16. 8:00am-4:30pm\n7/17. 9:00am-12:00 PM Exam Day\n7/19. 6:00am-2:30pm Clinicals\n7/20. 6:00am-2:30pm Clinicals \n  \nInquiries: (419) 559-2464\, kern@terra.edu
URL:https://fostorialearningcenter.org/event/july-certified-nurses-aid-schedule/2025-07-19/
CATEGORIES:Medical
END:VEVENT
BEGIN:VEVENT
DTSTART;TZID=UTC:20250717T080000
DTEND;TZID=UTC:20250717T163000
DTSTAMP:20260421T101329
CREATED:20250618T000529Z
LAST-MODIFIED:20250710T165011Z
UID:10000055-1752739200-1752769800@fostorialearningcenter.org
SUMMARY:July Certified Nurses Aide Schedule
DESCRIPTION:7/8. 8:00am-4:30pm\n7/9. 8:00am-4:30pm\n7/10. 8:00am-4:30pm\n7/11. 8:00am-4:30pm\n7/14. 8:00am-4:30pm\n7/15. 8:00am-4:30pm\n7/16. 8:00am-4:30pm\n7/17. 9:00am-12:00 PM Exam Day\n7/19. 6:00am-2:30pm Clinicals\n7/20. 6:00am-2:30pm Clinicals \n  \nInquiries: (419) 559-2464\, kern@terra.edu
URL:https://fostorialearningcenter.org/event/july-certified-nurses-aid-schedule/2025-07-17/
CATEGORIES:Medical
END:VEVENT
BEGIN:VEVENT
DTSTART;TZID=UTC:20250716T080000
DTEND;TZID=UTC:20250716T163000
DTSTAMP:20260421T101329
CREATED:20250618T000529Z
LAST-MODIFIED:20250710T165011Z
UID:10000054-1752652800-1752683400@fostorialearningcenter.org
SUMMARY:July Certified Nurses Aide Schedule
DESCRIPTION:7/8. 8:00am-4:30pm\n7/9. 8:00am-4:30pm\n7/10. 8:00am-4:30pm\n7/11. 8:00am-4:30pm\n7/14. 8:00am-4:30pm\n7/15. 8:00am-4:30pm\n7/16. 8:00am-4:30pm\n7/17. 9:00am-12:00 PM Exam Day\n7/19. 6:00am-2:30pm Clinicals\n7/20. 6:00am-2:30pm Clinicals \n  \nInquiries: (419) 559-2464\, kern@terra.edu
URL:https://fostorialearningcenter.org/event/july-certified-nurses-aid-schedule/2025-07-16/
CATEGORIES:Medical
END:VEVENT
BEGIN:VEVENT
DTSTART;TZID=UTC:20250715T080000
DTEND;TZID=UTC:20250715T163000
DTSTAMP:20260421T101329
CREATED:20250618T000529Z
LAST-MODIFIED:20250710T165011Z
UID:10000053-1752566400-1752597000@fostorialearningcenter.org
SUMMARY:July Certified Nurses Aide Schedule
DESCRIPTION:7/8. 8:00am-4:30pm\n7/9. 8:00am-4:30pm\n7/10. 8:00am-4:30pm\n7/11. 8:00am-4:30pm\n7/14. 8:00am-4:30pm\n7/15. 8:00am-4:30pm\n7/16. 8:00am-4:30pm\n7/17. 9:00am-12:00 PM Exam Day\n7/19. 6:00am-2:30pm Clinicals\n7/20. 6:00am-2:30pm Clinicals \n  \nInquiries: (419) 559-2464\, kern@terra.edu
URL:https://fostorialearningcenter.org/event/july-certified-nurses-aid-schedule/2025-07-15/
CATEGORIES:Medical
END:VEVENT
BEGIN:VEVENT
DTSTART;TZID=UTC:20250714T080000
DTEND;TZID=UTC:20250714T163000
DTSTAMP:20260421T101329
CREATED:20250618T000529Z
LAST-MODIFIED:20250710T165011Z
UID:10000052-1752480000-1752510600@fostorialearningcenter.org
SUMMARY:July Certified Nurses Aide Schedule
DESCRIPTION:7/8. 8:00am-4:30pm\n7/9. 8:00am-4:30pm\n7/10. 8:00am-4:30pm\n7/11. 8:00am-4:30pm\n7/14. 8:00am-4:30pm\n7/15. 8:00am-4:30pm\n7/16. 8:00am-4:30pm\n7/17. 9:00am-12:00 PM Exam Day\n7/19. 6:00am-2:30pm Clinicals\n7/20. 6:00am-2:30pm Clinicals \n  \nInquiries: (419) 559-2464\, kern@terra.edu
URL:https://fostorialearningcenter.org/event/july-certified-nurses-aid-schedule/2025-07-14/
CATEGORIES:Medical
END:VEVENT
BEGIN:VEVENT
DTSTART;TZID=UTC:20250711T080000
DTEND;TZID=UTC:20250711T163000
DTSTAMP:20260421T101329
CREATED:20250618T000529Z
LAST-MODIFIED:20250710T165011Z
UID:10000051-1752220800-1752251400@fostorialearningcenter.org
SUMMARY:July Certified Nurses Aide Schedule
DESCRIPTION:7/8. 8:00am-4:30pm\n7/9. 8:00am-4:30pm\n7/10. 8:00am-4:30pm\n7/11. 8:00am-4:30pm\n7/14. 8:00am-4:30pm\n7/15. 8:00am-4:30pm\n7/16. 8:00am-4:30pm\n7/17. 9:00am-12:00 PM Exam Day\n7/19. 6:00am-2:30pm Clinicals\n7/20. 6:00am-2:30pm Clinicals \n  \nInquiries: (419) 559-2464\, kern@terra.edu
URL:https://fostorialearningcenter.org/event/july-certified-nurses-aid-schedule/2025-07-11/
CATEGORIES:Medical
END:VEVENT
BEGIN:VEVENT
DTSTART;TZID=UTC:20250710T080000
DTEND;TZID=UTC:20250710T163000
DTSTAMP:20260421T101329
CREATED:20250618T000529Z
LAST-MODIFIED:20250710T165011Z
UID:10000050-1752134400-1752165000@fostorialearningcenter.org
SUMMARY:July Certified Nurses Aide Schedule
DESCRIPTION:7/8. 8:00am-4:30pm\n7/9. 8:00am-4:30pm\n7/10. 8:00am-4:30pm\n7/11. 8:00am-4:30pm\n7/14. 8:00am-4:30pm\n7/15. 8:00am-4:30pm\n7/16. 8:00am-4:30pm\n7/17. 9:00am-12:00 PM Exam Day\n7/19. 6:00am-2:30pm Clinicals\n7/20. 6:00am-2:30pm Clinicals \n  \nInquiries: (419) 559-2464\, kern@terra.edu
URL:https://fostorialearningcenter.org/event/july-certified-nurses-aid-schedule/2025-07-10/
CATEGORIES:Medical
END:VEVENT
BEGIN:VEVENT
DTSTART;TZID=UTC:20250709T080000
DTEND;TZID=UTC:20250709T163000
DTSTAMP:20260421T101329
CREATED:20250618T000529Z
LAST-MODIFIED:20250710T165011Z
UID:10000049-1752048000-1752078600@fostorialearningcenter.org
SUMMARY:July Certified Nurses Aide Schedule
DESCRIPTION:7/8. 8:00am-4:30pm\n7/9. 8:00am-4:30pm\n7/10. 8:00am-4:30pm\n7/11. 8:00am-4:30pm\n7/14. 8:00am-4:30pm\n7/15. 8:00am-4:30pm\n7/16. 8:00am-4:30pm\n7/17. 9:00am-12:00 PM Exam Day\n7/19. 6:00am-2:30pm Clinicals\n7/20. 6:00am-2:30pm Clinicals \n  \nInquiries: (419) 559-2464\, kern@terra.edu
URL:https://fostorialearningcenter.org/event/july-certified-nurses-aid-schedule/2025-07-09/
CATEGORIES:Medical
END:VEVENT
BEGIN:VEVENT
DTSTART;TZID=UTC:20250708T080000
DTEND;TZID=UTC:20250708T163000
DTSTAMP:20260421T101329
CREATED:20250618T000529Z
LAST-MODIFIED:20250710T165011Z
UID:10000048-1751961600-1751992200@fostorialearningcenter.org
SUMMARY:July Certified Nurses Aide Schedule
DESCRIPTION:7/8. 8:00am-4:30pm\n7/9. 8:00am-4:30pm\n7/10. 8:00am-4:30pm\n7/11. 8:00am-4:30pm\n7/14. 8:00am-4:30pm\n7/15. 8:00am-4:30pm\n7/16. 8:00am-4:30pm\n7/17. 9:00am-12:00 PM Exam Day\n7/19. 6:00am-2:30pm Clinicals\n7/20. 6:00am-2:30pm Clinicals \n  \nInquiries: (419) 559-2464\, kern@terra.edu
URL:https://fostorialearningcenter.org/event/july-certified-nurses-aid-schedule/2025-07-08/
CATEGORIES:Medical
END:VEVENT
BEGIN:VEVENT
DTSTART;TZID=UTC:20250622T060000
DTEND;TZID=UTC:20250622T143000
DTSTAMP:20260421T101329
CREATED:20250520T192853Z
LAST-MODIFIED:20250520T192853Z
UID:10000025-1750572000-1750602600@fostorialearningcenter.org
SUMMARY:Nurse Aide Training (June Clinicals)
DESCRIPTION:All classes will take place at the Fostoria Learning Center. \n\n\nSummer course dates are as follows: \nJune 10-18\, 8am-4:30pm \nExam: June 19\, 9am-Noon  \nClinicals: June 21-22 \, 6am-2:30pm \nFall course dates coming soon. \n  \n\n\n75 hours total \n59 hours in class time \n16 hours of Clinicals \nCost: $850/student\, does not include state test fee. \nMax Class Size: 8 \nBefore Clinicals each student will need following: \nTB Test \nPhysical \n*Scholarships available to eligible learners. For scholarship information\, contact via email or phone: eriehle01@terra.edu / 419-559-2255
URL:https://fostorialearningcenter.org/event/nurse-aide-training-june-clinicals-2/
CATEGORIES:Medical
END:VEVENT
BEGIN:VEVENT
DTSTART;TZID=UTC:20250621T060000
DTEND;TZID=UTC:20250621T143000
DTSTAMP:20260421T101329
CREATED:20250520T192816Z
LAST-MODIFIED:20250520T192816Z
UID:10000024-1750485600-1750516200@fostorialearningcenter.org
SUMMARY:Nurse Aide Training (June Clinicals)
DESCRIPTION:All classes will take place at the Fostoria Learning Center. \n\n\nSummer course dates are as follows: \nJune 10-18\, 8am-4:30pm \nExam: June 19\, 9am-Noon  \nClinicals: June 21-22 \, 6am-2:30pm \nFall course dates coming soon. \n  \n\n\n75 hours total \n59 hours in class time \n16 hours of Clinicals \nCost: $850/student\, does not include state test fee. \nMax Class Size: 8 \nBefore Clinicals each student will need following: \nTB Test \nPhysical \n*Scholarships available to eligible learners. For scholarship information\, contact via email or phone: eriehle01@terra.edu / 419-559-2255
URL:https://fostorialearningcenter.org/event/nurse-aide-training-june-clinicals/
CATEGORIES:Medical
END:VEVENT
BEGIN:VEVENT
DTSTART;TZID=UTC:20250619T090000
DTEND;TZID=UTC:20250619T120000
DTSTAMP:20260421T101329
CREATED:20250520T192728Z
LAST-MODIFIED:20250520T192728Z
UID:10000023-1750323600-1750334400@fostorialearningcenter.org
SUMMARY:Nurse Aide Training (June Exam)
DESCRIPTION:All classes will take place at the Fostoria Learning Center. \n\n\nSummer course dates are as follows: \nJune 10-18\, 8am-4:30pm \nExam: June 19\, 9am-Noon  \nClinicals: June 21-22 \, 6am-2:30pm \nFall course dates coming soon. \n  \n\n\n75 hours total \n59 hours in class time \n16 hours of Clinicals \nCost: $850/student\, does not include state test fee. \nMax Class Size: 8 \nBefore Clinicals each student will need following: \nTB Test \nPhysical \n*Scholarships available to eligible learners. For scholarship information\, contact via email or phone: eriehle01@terra.edu / 419-559-2255
URL:https://fostorialearningcenter.org/event/nurse-aide-training-june-exam/
CATEGORIES:Medical
END:VEVENT
BEGIN:VEVENT
DTSTART;TZID=UTC:20250618T080000
DTEND;TZID=UTC:20250618T163000
DTSTAMP:20260421T101329
CREATED:20250520T192645Z
LAST-MODIFIED:20250520T192645Z
UID:10000022-1750233600-1750264200@fostorialearningcenter.org
SUMMARY:Nurse Aide Training (June Session)
DESCRIPTION:All classes will take place at the Fostoria Learning Center. \n\n\nSummer course dates are as follows: \nJune 10-18\, 8am-4:30pm \nExam: June 19\, 9am-Noon  \nClinicals: June 21-22 \, 6am-2:30pm \nFall course dates coming soon. \n  \n\n\n75 hours total \n59 hours in class time \n16 hours of Clinicals \nCost: $850/student\, does not include state test fee. \nMax Class Size: 8 \nBefore Clinicals each student will need following: \nTB Test \nPhysical \n*Scholarships available to eligible learners. For scholarship information\, contact via email or phone: eriehle01@terra.edu / 419-559-2255
URL:https://fostorialearningcenter.org/event/nurse-aide-training-june-session-7/
CATEGORIES:Medical
END:VEVENT
BEGIN:VEVENT
DTSTART;TZID=UTC:20250617T080000
DTEND;TZID=UTC:20250617T163000
DTSTAMP:20260421T101329
CREATED:20250520T192613Z
LAST-MODIFIED:20250520T192613Z
UID:10000021-1750147200-1750177800@fostorialearningcenter.org
SUMMARY:Nurse Aide Training (June Session)
DESCRIPTION:All classes will take place at the Fostoria Learning Center. \n\n\nSummer course dates are as follows: \nJune 10-18\, 8am-4:30pm \nExam: June 19\, 9am-Noon  \nClinicals: June 21-22 \, 6am-2:30pm \nFall course dates coming soon. \n  \n\n\n75 hours total \n59 hours in class time \n16 hours of Clinicals \nCost: $850/student\, does not include state test fee. \nMax Class Size: 8 \nBefore Clinicals each student will need following: \nTB Test \nPhysical \n*Scholarships available to eligible learners. For scholarship information\, contact via email or phone: eriehle01@terra.edu / 419-559-2255
URL:https://fostorialearningcenter.org/event/nurse-aide-training-june-session-6/
CATEGORIES:Medical
END:VEVENT
BEGIN:VEVENT
DTSTART;TZID=UTC:20250616T080000
DTEND;TZID=UTC:20250616T170000
DTSTAMP:20260421T101329
CREATED:20250520T192539Z
LAST-MODIFIED:20250520T192539Z
UID:10000020-1750060800-1750093200@fostorialearningcenter.org
SUMMARY:Nurse Aide Training (June Session)
DESCRIPTION:All classes will take place at the Fostoria Learning Center. \n\n\nSummer course dates are as follows: \nJune 10-18\, 8am-4:30pm \nExam: June 19\, 9am-Noon  \nClinicals: June 21-22 \, 6am-2:30pm \nFall course dates coming soon. \n  \n\n\n75 hours total \n59 hours in class time \n16 hours of Clinicals \nCost: $850/student\, does not include state test fee. \nMax Class Size: 8 \nBefore Clinicals each student will need following: \nTB Test \nPhysical \n*Scholarships available to eligible learners. For scholarship information\, contact via email or phone: eriehle01@terra.edu / 419-559-2255
URL:https://fostorialearningcenter.org/event/nurse-aide-training-june-session-5/
CATEGORIES:Medical
END:VEVENT
BEGIN:VEVENT
DTSTART;TZID=UTC:20250613T080000
DTEND;TZID=UTC:20250613T163000
DTSTAMP:20260421T101329
CREATED:20250520T192453Z
LAST-MODIFIED:20250520T192453Z
UID:10000019-1749801600-1749832200@fostorialearningcenter.org
SUMMARY:Nurse Aide Training (June Session)
DESCRIPTION:All classes will take place at the Fostoria Learning Center. \n\n\nSummer course dates are as follows: \nJune 10-18\, 8am-4:30pm \nExam: June 19\, 9am-Noon  \nClinicals: June 21-22 \, 6am-2:30pm \nFall course dates coming soon. \n  \n\n\n75 hours total \n59 hours in class time \n16 hours of Clinicals \nCost: $850/student\, does not include state test fee. \nMax Class Size: 8 \nBefore Clinicals each student will need following: \nTB Test \nPhysical \n*Scholarships available to eligible learners. For scholarship information\, contact via email or phone: eriehle01@terra.edu / 419-559-2255
URL:https://fostorialearningcenter.org/event/nurse-aide-training-june-session-4/
CATEGORIES:Medical
END:VEVENT
BEGIN:VEVENT
DTSTART;TZID=UTC:20250612T080000
DTEND;TZID=UTC:20250612T163000
DTSTAMP:20260421T101329
CREATED:20250520T192354Z
LAST-MODIFIED:20250520T192354Z
UID:10000018-1749715200-1749745800@fostorialearningcenter.org
SUMMARY:Nurse Aide Training (June Session)
DESCRIPTION:All classes will take place at the Fostoria Learning Center. \n\n\nSummer course dates are as follows: \nJune 10-18\, 8am-4:30pm \nExam: June 19\, 9am-Noon  \nClinicals: June 21-22 \, 6am-2:30pm \nFall course dates coming soon. \n  \n\n\n75 hours total \n59 hours in class time \n16 hours of Clinicals \nCost: $850/student\, does not include state test fee. \nMax Class Size: 8 \nBefore Clinicals each student will need following: \nTB Test \nPhysical \n*Scholarships available to eligible learners. For scholarship information\, contact via email or phone: eriehle01@terra.edu / 419-559-2255
URL:https://fostorialearningcenter.org/event/nurse-aide-training-june-session-3/
CATEGORIES:Medical
END:VEVENT
BEGIN:VEVENT
DTSTART;TZID=UTC:20250611T080000
DTEND;TZID=UTC:20250611T163000
DTSTAMP:20260421T101329
CREATED:20250520T192323Z
LAST-MODIFIED:20250520T192323Z
UID:10000017-1749628800-1749659400@fostorialearningcenter.org
SUMMARY:Nurse Aide Training (June Session)
DESCRIPTION:All classes will take place at the Fostoria Learning Center. \n\n\nSummer course dates are as follows: \nJune 10-18\, 8am-4:30pm \nExam: June 19\, 9am-Noon  \nClinicals: June 21-22 \, 6am-2:30pm \nFall course dates coming soon. \n  \n\n\n75 hours total \n59 hours in class time \n16 hours of Clinicals \nCost: $850/student\, does not include state test fee. \nMax Class Size: 8 \nBefore Clinicals each student will need following: \nTB Test \nPhysical \n*Scholarships available to eligible learners. For scholarship information\, contact via email or phone: eriehle01@terra.edu / 419-559-2255
URL:https://fostorialearningcenter.org/event/nurse-aide-training-june-session-2/
CATEGORIES:Medical
END:VEVENT
BEGIN:VEVENT
DTSTART;TZID=UTC:20250610T080000
DTEND;TZID=UTC:20250610T163000
DTSTAMP:20260421T101329
CREATED:20250520T192253Z
LAST-MODIFIED:20250520T192253Z
UID:10000016-1749542400-1749573000@fostorialearningcenter.org
SUMMARY:Nurse Aide Training (June Session)
DESCRIPTION:All classes will take place at the Fostoria Learning Center. \n\n\nSummer course dates are as follows: \nJune 10-18\, 8am-4:30pm \nExam: June 19\, 9am-Noon  \nClinicals: June 21-22 \, 6am-2:30pm \nFall course dates coming soon. \n  \n\n\n75 hours total \n59 hours in class time \n16 hours of Clinicals \nCost: $850/student\, does not include state test fee. \nMax Class Size: 8 \nBefore Clinicals each student will need following: \nTB Test \nPhysical \n*Scholarships available to eligible learners. For scholarship information\, contact via email or phone: eriehle01@terra.edu / 419-559-2255
URL:https://fostorialearningcenter.org/event/nurse-aide-training-june-session/
CATEGORIES:Medical
END:VEVENT
BEGIN:VEVENT
DTSTART;TZID=UTC:20250506T080000
DTEND;TZID=UTC:20250506T163000
DTSTAMP:20260421T101329
CREATED:20250422T205930Z
LAST-MODIFIED:20250422T205930Z
UID:10000001-1746518400-1746549000@fostorialearningcenter.org
SUMMARY:CNA May 2025 Session
DESCRIPTION:Register: https://forms.gle/BhDizUSnArQzz42N9 \nOnce you complete the course and pass the\nexam and clinicals you will receive your State Certification \nMay Schedule:\n5/6\n5/7\n5/8\n5/9\n5/12\n5/13\n5/14\n5/15\n5/17\n5/18 \n8am-4:30pm\n8am-4:30pm\n8am-4:30pm\n8am-4:30pm\n8am-4:30pm\n8am-4:30pm\n8am-4:30pm\n9am-12 EXAM Day\n6am- 2:30pm CLINICALS\n6am-2:30pm CLINICALS
URL:https://fostorialearningcenter.org/event/cna-may-2025-session/
CATEGORIES:Medical
END:VEVENT
END:VCALENDAR