BEGIN:VCALENDAR
VERSION:2.0
PRODID:-//Fostoria Learning Center - ECPv6.13.0//NONSGML v1.0//EN
CALSCALE:GREGORIAN
METHOD:PUBLISH
X-WR-CALNAME:Fostoria Learning Center
X-ORIGINAL-URL:https://fostorialearningcenter.org
X-WR-CALDESC:Events for Fostoria Learning Center
REFRESH-INTERVAL;VALUE=DURATION:PT1H
X-Robots-Tag:noindex
X-PUBLISHED-TTL:PT1H
BEGIN:VTIMEZONE
TZID:UTC
BEGIN:STANDARD
TZOFFSETFROM:+0000
TZOFFSETTO:+0000
TZNAME:UTC
DTSTART:20250101T000000
END:STANDARD
END:VTIMEZONE
BEGIN:VEVENT
DTSTART;TZID=UTC:20250805T080000
DTEND;TZID=UTC:20250805T160000
DTSTAMP:20260423T142404
CREATED:20250422T211655Z
LAST-MODIFIED:20250422T211655Z
UID:10000006-1754380800-1754409600@fostorialearningcenter.org
SUMMARY:Hydraulics
DESCRIPTION:Tech Cred Eligible: Hydraulics
URL:https://fostorialearningcenter.org/event/hydraulics/
CATEGORIES:Industrial
END:VEVENT
BEGIN:VEVENT
DTSTART;TZID=UTC:20250724T080000
DTEND;TZID=UTC:20250724T160000
DTSTAMP:20260423T142404
CREATED:20250520T191404Z
LAST-MODIFIED:20250520T191404Z
UID:10000011-1753344000-1753372800@fostorialearningcenter.org
SUMMARY:Advanced Electricity
DESCRIPTION:TECH CRED Eligible\n \nDate: July 22-24\, 2025 \nTime: 8am – 4:00pm \nCost: $1800 \nLength: 24 hours
URL:https://fostorialearningcenter.org/event/advanced-electricity-3/
CATEGORIES:Industrial
END:VEVENT
BEGIN:VEVENT
DTSTART;TZID=UTC:20250723T080000
DTEND;TZID=UTC:20250723T160000
DTSTAMP:20260423T142404
CREATED:20250520T191335Z
LAST-MODIFIED:20250520T191335Z
UID:10000010-1753257600-1753286400@fostorialearningcenter.org
SUMMARY:Advanced Electricity
DESCRIPTION:TECH CRED Eligible\n \nDate: July 22-24\, 2025 \nTime: 8am – 4:00pm \nCost: $1800 \nLength: 24 hours
URL:https://fostorialearningcenter.org/event/advanced-electricity-2/
CATEGORIES:Industrial
END:VEVENT
BEGIN:VEVENT
DTSTART;TZID=UTC:20250722T080000
DTEND;TZID=UTC:20250722T170000
DTSTAMP:20260423T142404
CREATED:20250422T211606Z
LAST-MODIFIED:20250422T211606Z
UID:10000005-1753171200-1753203600@fostorialearningcenter.org
SUMMARY:Advanced Electricity
DESCRIPTION:Tech Cred Eligible: Industrial Electricity \n 
URL:https://fostorialearningcenter.org/event/advanced-electricity/
CATEGORIES:Industrial
END:VEVENT
BEGIN:VEVENT
DTSTART;TZID=UTC:20250710T080000
DTEND;TZID=UTC:20250710T160000
DTSTAMP:20260423T142404
CREATED:20250520T191518Z
LAST-MODIFIED:20250520T191518Z
UID:10000013-1752134400-1752163200@fostorialearningcenter.org
SUMMARY:Basic Electricity
DESCRIPTION:Date: July 8-10\, 2025 \nTime: 8am – 4:00pm \nLength: 24 hours \nCost: $1800 per student
URL:https://fostorialearningcenter.org/event/basic-electricity-3/
CATEGORIES:Industrial
END:VEVENT
BEGIN:VEVENT
DTSTART;TZID=UTC:20250709T080000
DTEND;TZID=UTC:20250709T160000
DTSTAMP:20260423T142404
CREATED:20250520T191451Z
LAST-MODIFIED:20250520T191451Z
UID:10000012-1752048000-1752076800@fostorialearningcenter.org
SUMMARY:Basic Electricity
DESCRIPTION:Date: July 8-10\, 2025 \nTime: 8am – 4:00pm \nLength: 24 hours \nCost: $1800 per student
URL:https://fostorialearningcenter.org/event/basic-electricity-2/
CATEGORIES:Industrial
END:VEVENT
BEGIN:VEVENT
DTSTART;TZID=UTC:20250708T080000
DTEND;TZID=UTC:20250708T160000
DTSTAMP:20260423T142404
CREATED:20250422T211454Z
LAST-MODIFIED:20250422T211454Z
UID:10000004-1751961600-1751990400@fostorialearningcenter.org
SUMMARY:Basic Electricity
DESCRIPTION:Tech Cred Eligible: Basic Electricity \n 
URL:https://fostorialearningcenter.org/event/basic-electricity/
CATEGORIES:Industrial
END:VEVENT
BEGIN:VEVENT
DTSTART;TZID=UTC:20250626T080000
DTEND;TZID=UTC:20250626T160000
DTSTAMP:20260423T142404
CREATED:20250520T191043Z
LAST-MODIFIED:20250520T191043Z
UID:10000009-1750924800-1750953600@fostorialearningcenter.org
SUMMARY:Machine Repair
DESCRIPTION:Tech Cred Eligible: Manufacturing Machine Maintenance \nTimes: 8 a.m. to 4 p.m. \nCost: $1800 per person \nLength: 24 hours
URL:https://fostorialearningcenter.org/event/machine-repair-3/
CATEGORIES:Industrial
END:VEVENT
BEGIN:VEVENT
DTSTART;TZID=UTC:20250625T080000
DTEND;TZID=UTC:20250625T160000
DTSTAMP:20260423T142404
CREATED:20250520T191020Z
LAST-MODIFIED:20250520T191020Z
UID:10000008-1750838400-1750867200@fostorialearningcenter.org
SUMMARY:Machine Repair
DESCRIPTION:Tech Cred Eligible: Manufacturing Machine Maintenance \nTimes: 8 a.m. to 4 p.m. \nCost: $1800 per person \nLength: 24 hours
URL:https://fostorialearningcenter.org/event/machine-repair-2/
CATEGORIES:Industrial
END:VEVENT
BEGIN:VEVENT
DTSTART;TZID=UTC:20250624T080000
DTEND;TZID=UTC:20250624T160000
DTSTAMP:20260423T142404
CREATED:20250422T211303Z
LAST-MODIFIED:20250422T211303Z
UID:10000003-1750752000-1750780800@fostorialearningcenter.org
SUMMARY:Machine Repair
DESCRIPTION:Tech Cred Eligible: Manufacturing Machine Maintenance \nTimes: 8 a.m. to 4 p.m. \nCost: $1800 per person \nLength: 24 hours
URL:https://fostorialearningcenter.org/event/machine-repair/
CATEGORIES:Industrial
END:VEVENT
END:VCALENDAR