BEGIN:VCALENDAR
VERSION:2.0
PRODID:-//Fostoria Learning Center - ECPv6.13.0//NONSGML v1.0//EN
CALSCALE:GREGORIAN
METHOD:PUBLISH
X-WR-CALNAME:Fostoria Learning Center
X-ORIGINAL-URL:https://fostorialearningcenter.org
X-WR-CALDESC:Events for Fostoria Learning Center
REFRESH-INTERVAL;VALUE=DURATION:PT1H
X-Robots-Tag:noindex
X-PUBLISHED-TTL:PT1H
BEGIN:VTIMEZONE
TZID:UTC
BEGIN:STANDARD
TZOFFSETFROM:+0000
TZOFFSETTO:+0000
TZNAME:UTC
DTSTART:20250101T000000
END:STANDARD
END:VTIMEZONE
BEGIN:VEVENT
DTSTART;TZID=UTC:20250807T080000
DTEND;TZID=UTC:20250807T160000
DTSTAMP:20260422T102743
CREATED:20250520T191713Z
LAST-MODIFIED:20250520T191713Z
UID:10000015-1754553600-1754582400@fostorialearningcenter.org
SUMMARY:Hydraulics
DESCRIPTION:Dates: August 5-7\, 2025 \nTime: 8:00 a.m. – 4:00 p.m. \nCost: $1800 \nLength: 24 hours
URL:https://fostorialearningcenter.org/event/hydraulics-3/
CATEGORIES:Industrial
END:VEVENT
END:VCALENDAR