BEGIN:VCALENDAR
VERSION:2.0
PRODID:-//Fostoria Learning Center - ECPv6.13.0//NONSGML v1.0//EN
CALSCALE:GREGORIAN
METHOD:PUBLISH
X-ORIGINAL-URL:https://fostorialearningcenter.org
X-WR-CALDESC:Events for Fostoria Learning Center
REFRESH-INTERVAL;VALUE=DURATION:PT1H
X-Robots-Tag:noindex
X-PUBLISHED-TTL:PT1H
BEGIN:VTIMEZONE
TZID:UTC
BEGIN:STANDARD
TZOFFSETFROM:+0000
TZOFFSETTO:+0000
TZNAME:UTC
DTSTART:20250101T000000
END:STANDARD
END:VTIMEZONE
BEGIN:VEVENT
DTSTART;TZID=UTC:20250513T080000
DTEND;TZID=UTC:20250513T163000
DTSTAMP:20260422T224835
CREATED:20250520T193142Z
LAST-MODIFIED:20250520T193142Z
UID:10000030-1747123200-1747153800@fostorialearningcenter.org
SUMMARY:CNA May 2025 Session
DESCRIPTION:Register: https://forms.gle/BhDizUSnArQzz42N9 \nOnce you complete the course and pass the\nexam and clinicals you will receive your State Certification \nMay Schedule:\n5/6\n5/7\n5/8\n5/9\n5/12\n5/13\n5/14\n5/15\n5/17\n5/18 \n8am-4:30pm\n8am-4:30pm\n8am-4:30pm\n8am-4:30pm\n8am-4:30pm\n8am-4:30pm\n8am-4:30pm\n9am-12 EXAM Day\n6am- 2:30pm CLINICALS\n6am-2:30pm CLINICALS
URL:https://fostorialearningcenter.org/event/cna-may-2025-session-6/
END:VEVENT
END:VCALENDAR